BEGIN:VCALENDAR
VERSION:2.0
PRODID:-//Ayuntamiento de Granadilla de Abona - ECPv6.15.17//NONSGML v1.0//EN
CALSCALE:GREGORIAN
METHOD:PUBLISH
X-ORIGINAL-URL:https://www.granadilladeabona.org
X-WR-CALDESC:Eventos para Ayuntamiento de Granadilla de Abona
REFRESH-INTERVAL;VALUE=DURATION:PT1H
X-Robots-Tag:noindex
X-PUBLISHED-TTL:PT1H
BEGIN:VTIMEZONE
TZID:Atlantic/Canary
BEGIN:DAYLIGHT
TZOFFSETFROM:+0000
TZOFFSETTO:+0100
TZNAME:WEST
DTSTART:20250330T010000
END:DAYLIGHT
BEGIN:STANDARD
TZOFFSETFROM:+0100
TZOFFSETTO:+0000
TZNAME:WET
DTSTART:20251026T010000
END:STANDARD
BEGIN:DAYLIGHT
TZOFFSETFROM:+0000
TZOFFSETTO:+0100
TZNAME:WEST
DTSTART:20260329T010000
END:DAYLIGHT
BEGIN:STANDARD
TZOFFSETFROM:+0100
TZOFFSETTO:+0000
TZNAME:WET
DTSTART:20261025T010000
END:STANDARD
BEGIN:DAYLIGHT
TZOFFSETFROM:+0000
TZOFFSETTO:+0100
TZNAME:WEST
DTSTART:20270328T010000
END:DAYLIGHT
BEGIN:STANDARD
TZOFFSETFROM:+0100
TZOFFSETTO:+0000
TZNAME:WET
DTSTART:20271031T010000
END:STANDARD
END:VTIMEZONE
BEGIN:VEVENT
DTSTART;TZID=Atlantic/Canary:20260428T110000
DTEND;TZID=Atlantic/Canary:20260428T123000
DTSTAMP:20260424T210001
CREATED:20260424T123530Z
LAST-MODIFIED:20260424T123822Z
UID:44365-1777374000-1777379400@www.granadilladeabona.org
SUMMARY:Charla sobre las Coagulopatías y la Discapacidad
DESCRIPTION:El Ayuntamiento de Granadilla de Abona\, a través de la concejalía de Promoción de la Salud que dirige María Candelaria Chinea Niebla\, conjuntamente con la Asociación de Hemofilia de la Provincia de Santa Cruz de Tenerife (AHETE) como entidad miembro del Anillo Insular de Políticas Sociales del Cabildo Insular de Tenerife\, a través de Instituto Insular de Atención Social y Sociosanitaria de Tenerife (IASS)\, ofrece una charla sobre las coagulopatías y la discapacidad. \nSe pretende crear un espacio de información\, reflexión y sensibilización donde se expondrá información de la hemofilia\, otras coagulopatías y su relación con la discapacidad. \nEn estas charlas se abordará: \n• Qué son las coagulopatías y cómo afectan a la vida diaria\n• La realidad de las personas con hemofilia\n• La discapacidad\, incapacidad y dependencia\n• Cómo podemos fomentar una sociedad más inclusiva y consciente \nLa actividad se hará el martes 28 de abril\, en el SIEC de San Isidro\, de 11:00 a 12:30 horas. Las inscripciones son gratuitas.\nMás información llamando al los teléfonos 922 649 654 y 695145 553. \nGranadilla T-Cuida \nTfno. de la concejalía de Promoción de la Salud: 922759948\nsalud@granadilladeabona.org
URL:https://www.granadilladeabona.org/event/44365/
LOCATION:Auditorio del SIEC de San Isidro\, Calle Sta. María de la Cabeza\, 3\, San Isidro\,\, San isidro\, Santa Cruz de Tenerife\, 38611\, España
CATEGORIES:Anuncios y Avisos,Salud
END:VEVENT
END:VCALENDAR